BEGIN:VCALENDAR
VERSION:2.0
PRODID:-//PaperConnection - ECPv6.15.20//NONSGML v1.0//EN
CALSCALE:GREGORIAN
METHOD:PUBLISH
X-WR-CALNAME:PaperConnection
X-ORIGINAL-URL:https://paperconnection.com
X-WR-CALDESC:Events for PaperConnection
REFRESH-INTERVAL;VALUE=DURATION:PT1H
X-Robots-Tag:noindex
X-PUBLISHED-TTL:PT1H
BEGIN:VTIMEZONE
TZID:America/New_York
BEGIN:DAYLIGHT
TZOFFSETFROM:-0500
TZOFFSETTO:-0400
TZNAME:EDT
DTSTART:20240310T070000
END:DAYLIGHT
BEGIN:STANDARD
TZOFFSETFROM:-0400
TZOFFSETTO:-0500
TZNAME:EST
DTSTART:20241103T060000
END:STANDARD
BEGIN:DAYLIGHT
TZOFFSETFROM:-0500
TZOFFSETTO:-0400
TZNAME:EDT
DTSTART:20250309T070000
END:DAYLIGHT
BEGIN:STANDARD
TZOFFSETFROM:-0400
TZOFFSETTO:-0500
TZNAME:EST
DTSTART:20251102T060000
END:STANDARD
BEGIN:DAYLIGHT
TZOFFSETFROM:-0500
TZOFFSETTO:-0400
TZNAME:EDT
DTSTART:20260308T070000
END:DAYLIGHT
BEGIN:STANDARD
TZOFFSETFROM:-0400
TZOFFSETTO:-0500
TZNAME:EST
DTSTART:20261101T060000
END:STANDARD
END:VTIMEZONE
BEGIN:VEVENT
DTSTART;TZID=America/New_York:20251016T100000
DTEND;TZID=America/New_York:20251106T150000
DTSTAMP:20260424T030138
CREATED:20250904T002837Z
LAST-MODIFIED:20250916T231318Z
UID:16970-1760608800-1762441200@paperconnection.com
SUMMARY:Workshop: Seaweed & Cyanotypes
DESCRIPTION:In this exciting 4-part course artist Mary Jameson\, owner of Saltwater Studio Newport Art & Design\, will introduce seaweed as a medium in art making! \nIn this eco-based workshop participants will be combining the processes of Cyanotype and Seaweed Pressing to create unique pieces of art on paper. Start date is Oct. 16th\, followed by Oct. 23rd\, Oct. 30th and Nov. 6th. (4 Thursdays). \nPrice includes materials.
URL:https://paperconnection.com/event/workshop-seaweed-cynotypes/
LOCATION:Hope Artiste Village\, Art Annex\, 999 Main Street\, Unit #109\, Pawtucket\, RI\, 02860\, United States
CATEGORIES:workshop
END:VEVENT
BEGIN:VEVENT
DTSTART;TZID=America/New_York:20251018T093000
DTEND;TZID=America/New_York:20251122T110000
DTSTAMP:20260424T030138
CREATED:20250904T003902Z
LAST-MODIFIED:20250904T003902Z
UID:16973-1760779800-1763809200@paperconnection.com
SUMMARY:Workshop: Relief Printing with Linoleum
DESCRIPTION:Starting Saturday morning\, October 18th \, in this 6-week course\, Jules from Heron Pond Studio will guide you through the linocut printmaking process. This is a special opportunity to learn from a local expert! \n[ 90 minute course for 6 Saturdays:  Oct. 18\, 25 and  Nov. 1\, 8\, 15\, 22 \nBeautiful papers from Paper Connection‘s collection\, will be included in your course fee! However\, students will need to purchase in advance a list of supplies provided by the instructor\, like carving tools\, linoleum \, etc. \n6-student minimum\, so sign up with a friend or two! \n\nAmple parking and accessible ramp at front door! \n\nAbout the Instructor \nJules has been a printmaker for over 40 years. HeronPondStudio has been a working studio for over 30 years—currently as a studio in Fall River\, MA at the Narrows Center For The Arts. Jules has participated in many shows in RI\, the Boston area\, New Jersey\, Philly\, and Baltimore over the years. Jules’ work doesn’t just consist of one kind of image—the full body of work includes animals\, people\, places\, things\, and a lot of imagination! Jules has also taught classes and given printing demonstrations in her studio space\, kids summer camp programs\, and in churches and museums.
URL:https://paperconnection.com/event/workshop-relief-printing-with-linoleum/
CATEGORIES:workshop
END:VEVENT
END:VCALENDAR 