BEGIN:VCALENDAR
VERSION:2.0
PRODID:-//PaperConnection - ECPv6.15.20//NONSGML v1.0//EN
CALSCALE:GREGORIAN
METHOD:PUBLISH
X-ORIGINAL-URL:https://paperconnection.com
X-WR-CALDESC:Events for PaperConnection
REFRESH-INTERVAL;VALUE=DURATION:PT1H
X-Robots-Tag:noindex
X-PUBLISHED-TTL:PT1H
BEGIN:VTIMEZONE
TZID:America/New_York
BEGIN:DAYLIGHT
TZOFFSETFROM:-0500
TZOFFSETTO:-0400
TZNAME:EDT
DTSTART:20230312T070000
END:DAYLIGHT
BEGIN:STANDARD
TZOFFSETFROM:-0400
TZOFFSETTO:-0500
TZNAME:EST
DTSTART:20231105T060000
END:STANDARD
BEGIN:DAYLIGHT
TZOFFSETFROM:-0500
TZOFFSETTO:-0400
TZNAME:EDT
DTSTART:20240310T070000
END:DAYLIGHT
BEGIN:STANDARD
TZOFFSETFROM:-0400
TZOFFSETTO:-0500
TZNAME:EST
DTSTART:20241103T060000
END:STANDARD
BEGIN:DAYLIGHT
TZOFFSETFROM:-0500
TZOFFSETTO:-0400
TZNAME:EDT
DTSTART:20250309T070000
END:DAYLIGHT
BEGIN:STANDARD
TZOFFSETFROM:-0400
TZOFFSETTO:-0500
TZNAME:EST
DTSTART:20251102T060000
END:STANDARD
END:VTIMEZONE
BEGIN:VEVENT
DTSTART;TZID=America/New_York:20240302T130000
DTEND;TZID=America/New_York:20240302T160000
DTSTAMP:20260425T073706
CREATED:20240205T013629Z
LAST-MODIFIED:20240227T005154Z
UID:16496-1709384400-1709395200@paperconnection.com
SUMMARY:Make Paper by Hand! Embedding Techniques
DESCRIPTION:This workshop is for beginners and non-beginners and we will focus on embedding inclusions and experiencing the elegant translucency of paper made by hand. \nPapermaking pulp and tools wiill be provided for making 5x8in. and 8×11 in. sheets mainly. Various items to embed will also be provided\, but please bring your own! \nSuggestions: other decorative paper\, printed matter\, handwritten letters\, leaves\, petals\, twigs\, rope\, string\, wire\, fabric on the thin side\, decals\, stamps\, etc. \nPlease note: \nIf you desire\, please bring your own favorite apron\, and wear shoes you don’t mind getting wet. \nPaper may not be dry by the end of class\, so you can bring home in plastic bag or pick up at a later date. \nPlease consider joining us on March 10th when we will be sculpting with handmade paper in our workshop called : Paper & Light also on Eventbrite. \nIf you have any questions\, please reach out to contactus@paperconnection.com or call Monday – Thursday (401)454-1436
URL:https://paperconnection.com/event/make-paper-by-hand-embedding-techniques/
LOCATION:Hope Artiste Village\, Art Annex\, 999 Main Street\, Unit #109\, Pawtucket\, RI\, 02860\, United States
CATEGORIES:workshop
ORGANIZER;CN="Lauren Pearlman Sugita":MAILTO:washiwoman@gmail.com
END:VEVENT
END:VCALENDAR 