BEGIN:VCALENDAR
VERSION:2.0
PRODID:-//PaperConnection - ECPv6.15.20//NONSGML v1.0//EN
CALSCALE:GREGORIAN
METHOD:PUBLISH
X-WR-CALNAME:PaperConnection
X-ORIGINAL-URL:https://paperconnection.com
X-WR-CALDESC:Events for PaperConnection
REFRESH-INTERVAL;VALUE=DURATION:PT1H
X-Robots-Tag:noindex
X-PUBLISHED-TTL:PT1H
BEGIN:VTIMEZONE
TZID:America/New_York
BEGIN:DAYLIGHT
TZOFFSETFROM:-0500
TZOFFSETTO:-0400
TZNAME:EDT
DTSTART:20240310T070000
END:DAYLIGHT
BEGIN:STANDARD
TZOFFSETFROM:-0400
TZOFFSETTO:-0500
TZNAME:EST
DTSTART:20241103T060000
END:STANDARD
BEGIN:DAYLIGHT
TZOFFSETFROM:-0500
TZOFFSETTO:-0400
TZNAME:EDT
DTSTART:20250309T070000
END:DAYLIGHT
BEGIN:STANDARD
TZOFFSETFROM:-0400
TZOFFSETTO:-0500
TZNAME:EST
DTSTART:20251102T060000
END:STANDARD
BEGIN:DAYLIGHT
TZOFFSETFROM:-0500
TZOFFSETTO:-0400
TZNAME:EDT
DTSTART:20260308T070000
END:DAYLIGHT
BEGIN:STANDARD
TZOFFSETFROM:-0400
TZOFFSETTO:-0500
TZNAME:EST
DTSTART:20261101T060000
END:STANDARD
END:VTIMEZONE
BEGIN:VEVENT
DTSTART;TZID=America/New_York:20250330T120000
DTEND;TZID=America/New_York:20250330T150000
DTSTAMP:20260424T102430
CREATED:20250316T194352Z
LAST-MODIFIED:20250316T201454Z
UID:16925-1743336000-1743346800@paperconnection.com
SUMMARY:FELTED PODS: Vessels to have\, hold\, and carry
DESCRIPTION:3 hour\, vessel-building workshop with instructor Hollis Hickerson. \n\n\n\n\n\n\n\n\n\nLearn the basics of wet felting 3D forms and create a one of a kind soft pod perfect for small trinkets\, led lights\, and even plants! What’s wet felting? Wet felting is the process of turning wool fibers into felt fabric through applying friction with soap and water. This workshop will introduce two “sculpting” methods: (1) starting with a 2D template to create a 3D form\, and (2) using a glass jar as the base form to build off of. Materials included! \nThis event is open to all ages and could be great for families! We request that anyone under the age of 14 be accompanied by an adult. \n\nHollis Hickerson is not only a sculptoral felt artist\, but a brilliant illustrator that we’re excited to welcome back! Find them on instagram under @horned_hare_studios.
URL:https://paperconnection.com/event/felted-pods-vessels-to-have-hold-and-carry/
LOCATION:Hope Artiste Village\, Art Annex\, 999 Main Street\, Unit #109\, Pawtucket\, RI\, 02860\, United States
CATEGORIES:workshop
ATTACH;FMTTYPE=image/jpeg:https://paperconnection.com/wp-content/uploads/2025/03/Eventbrite-banner.jpeg
END:VEVENT
END:VCALENDAR 