BEGIN:VCALENDAR
VERSION:2.0
PRODID:-//PaperConnection - ECPv6.15.20//NONSGML v1.0//EN
CALSCALE:GREGORIAN
METHOD:PUBLISH
X-ORIGINAL-URL:https://paperconnection.com
X-WR-CALDESC:Events for PaperConnection
REFRESH-INTERVAL;VALUE=DURATION:PT1H
X-Robots-Tag:noindex
X-PUBLISHED-TTL:PT1H
BEGIN:VTIMEZONE
TZID:America/New_York
BEGIN:DAYLIGHT
TZOFFSETFROM:-0500
TZOFFSETTO:-0400
TZNAME:EDT
DTSTART:20240310T070000
END:DAYLIGHT
BEGIN:STANDARD
TZOFFSETFROM:-0400
TZOFFSETTO:-0500
TZNAME:EST
DTSTART:20241103T060000
END:STANDARD
BEGIN:DAYLIGHT
TZOFFSETFROM:-0500
TZOFFSETTO:-0400
TZNAME:EDT
DTSTART:20250309T070000
END:DAYLIGHT
BEGIN:STANDARD
TZOFFSETFROM:-0400
TZOFFSETTO:-0500
TZNAME:EST
DTSTART:20251102T060000
END:STANDARD
BEGIN:DAYLIGHT
TZOFFSETFROM:-0500
TZOFFSETTO:-0400
TZNAME:EDT
DTSTART:20260308T070000
END:DAYLIGHT
BEGIN:STANDARD
TZOFFSETFROM:-0400
TZOFFSETTO:-0500
TZNAME:EST
DTSTART:20261101T060000
END:STANDARD
END:VTIMEZONE
BEGIN:VEVENT
DTSTART;TZID=America/New_York:20250323T130000
DTEND;TZID=America/New_York:20250323T160000
DTSTAMP:20260424T102329
CREATED:20250316T195357Z
LAST-MODIFIED:20250316T201628Z
UID:16927-1742734800-1742745600@paperconnection.com
SUMMARY:Traditional Embroidery Sampler
DESCRIPTION:Learn the basics of embroidery with instructor Molly Smith .   In this 3-hour workshop you’ll review setting up a hoop\, threading needles\, and some of the most commonly-used stitches. This class will include straight stitches\, including the elusive French knot\, before moving on to decorative and knotted stitches. Along the way\, you’ll receive tips and tricks for smooth embroidery. Molly will provide some of her completed work as samples.\n\n\nParticipants will have access to: \n\nA six to eight-inch hoop\nAn original design to be stitched\nTemplated fabric\n\nUNDER 14 WITH PARENT OR LEGAL GUARDIAN
URL:https://paperconnection.com/event/traditional-embroidery-sampler/
LOCATION:Hope Artiste Village\, Art Annex\, 999 Main Street\, Unit #109\, Pawtucket\, RI\, 02860\, United States
ATTACH;FMTTYPE=image/jpeg:https://paperconnection.com/wp-content/uploads/2025/03/traditional-embroidery-4-Eventbrite-scaled.jpeg
END:VEVENT
END:VCALENDAR 