BEGIN:VCALENDAR
VERSION:2.0
PRODID:-//PaperConnection - ECPv6.15.20//NONSGML v1.0//EN
CALSCALE:GREGORIAN
METHOD:PUBLISH
X-ORIGINAL-URL:https://paperconnection.com
X-WR-CALDESC:Events for PaperConnection
REFRESH-INTERVAL;VALUE=DURATION:PT1H
X-Robots-Tag:noindex
X-PUBLISHED-TTL:PT1H
BEGIN:VTIMEZONE
TZID:America/New_York
BEGIN:DAYLIGHT
TZOFFSETFROM:-0500
TZOFFSETTO:-0400
TZNAME:EDT
DTSTART:20230312T070000
END:DAYLIGHT
BEGIN:STANDARD
TZOFFSETFROM:-0400
TZOFFSETTO:-0500
TZNAME:EST
DTSTART:20231105T060000
END:STANDARD
BEGIN:DAYLIGHT
TZOFFSETFROM:-0500
TZOFFSETTO:-0400
TZNAME:EDT
DTSTART:20240310T070000
END:DAYLIGHT
BEGIN:STANDARD
TZOFFSETFROM:-0400
TZOFFSETTO:-0500
TZNAME:EST
DTSTART:20241103T060000
END:STANDARD
BEGIN:DAYLIGHT
TZOFFSETFROM:-0500
TZOFFSETTO:-0400
TZNAME:EDT
DTSTART:20250309T070000
END:DAYLIGHT
BEGIN:STANDARD
TZOFFSETFROM:-0400
TZOFFSETTO:-0500
TZNAME:EST
DTSTART:20251102T060000
END:STANDARD
END:VTIMEZONE
BEGIN:VEVENT
DTSTART;TZID=America/New_York:20240125T100000
DTEND;TZID=America/New_York:20240125T150000
DTSTAMP:20260425T061915
CREATED:20240108T181633Z
LAST-MODIFIED:20240119T230723Z
UID:16395-1706176800-1706194800@paperconnection.com
SUMMARY:2 Thursdays & 1 Saturday: Learn to Weave with Suzi Ballenger
DESCRIPTION:Join Suzi Ballenger at the ART ANNEX for a fun\, hands-on weaving workshop! \n(This workshop will repeat on Thursday\, February 1st\, and Saturday\,  February 3rd) \nWhether you’re a beginner or have some experience\, this event is perfect for anyone interested in learning the art of weaving. You will be guided through the process step by step\, learning the basic techniques of this unique craft. Get ready to unleash your creativity and discover the joy of weaving! Don’t miss out on this exciting opportunity to learn a new skill and meet fellow weaving enthusiasts. \nSign up now and let’s weave some magic together!  All supplies included. \nLocated at the ART ANNEX at the Hope Artiste Village 999 Main Street\, Studio 109 Pawtucket\, RI 02860 \n 
URL:https://paperconnection.com/event/learn-to-weave-with-suzi-ballenger/
LOCATION:Hope Artiste Village\, Art Annex\, 999 Main Street\, Unit #109\, Pawtucket\, RI\, 02860\, United States
ORGANIZER;CN="Suzi Ballenger":MAILTO:realfibers@aol.com
END:VEVENT
END:VCALENDAR 