BEGIN:VCALENDAR
VERSION:2.0
PRODID:-//PaperConnection - ECPv6.15.20//NONSGML v1.0//EN
CALSCALE:GREGORIAN
METHOD:PUBLISH
X-ORIGINAL-URL:https://paperconnection.com
X-WR-CALDESC:Events for PaperConnection
REFRESH-INTERVAL;VALUE=DURATION:PT1H
X-Robots-Tag:noindex
X-PUBLISHED-TTL:PT1H
BEGIN:VTIMEZONE
TZID:America/New_York
BEGIN:DAYLIGHT
TZOFFSETFROM:-0500
TZOFFSETTO:-0400
TZNAME:EDT
DTSTART:20220313T070000
END:DAYLIGHT
BEGIN:STANDARD
TZOFFSETFROM:-0400
TZOFFSETTO:-0500
TZNAME:EST
DTSTART:20221106T060000
END:STANDARD
BEGIN:DAYLIGHT
TZOFFSETFROM:-0500
TZOFFSETTO:-0400
TZNAME:EDT
DTSTART:20230312T070000
END:DAYLIGHT
BEGIN:STANDARD
TZOFFSETFROM:-0400
TZOFFSETTO:-0500
TZNAME:EST
DTSTART:20231105T060000
END:STANDARD
BEGIN:DAYLIGHT
TZOFFSETFROM:-0500
TZOFFSETTO:-0400
TZNAME:EDT
DTSTART:20240310T070000
END:DAYLIGHT
BEGIN:STANDARD
TZOFFSETFROM:-0400
TZOFFSETTO:-0500
TZNAME:EST
DTSTART:20241103T060000
END:STANDARD
END:VTIMEZONE
BEGIN:VEVENT
DTSTART;TZID=America/New_York:20230921T160000
DTEND;TZID=America/New_York:20230921T190000
DTSTAMP:20260425T104441
CREATED:20230816T221240Z
LAST-MODIFIED:20230816T221240Z
UID:16226-1695312000-1695322800@paperconnection.com
SUMMARY:Pulp It  Spin It  Weave It
DESCRIPTION:So many wonderful events going on during DESIGN WEEK RI 2023 including ours!  Pulp It  Spin It  Weave It is free\, but requires pre-registration due to limited space. \n 
URL:https://paperconnection.com/event/pulp-it-spin-it-weave-it/
LOCATION:Hope Artiste Village\, Art Annex\, 999 Main Street\, Unit #109\, Pawtucket\, RI\, 02860\, United States
CATEGORIES:Intro and Demo
END:VEVENT
BEGIN:VEVENT
DTSTART;TZID=America/New_York:20230925T100000
DTEND;TZID=America/New_York:20230925T160000
DTSTAMP:20260425T104441
CREATED:20230501T040501Z
LAST-MODIFIED:20230821T163513Z
UID:15844-1695636000-1695657600@paperconnection.com
SUMMARY:Monday: One Day Weaving Adventure with Suzi Ballenger
DESCRIPTION:Workshop  10am-4pm\, ART ANNEX\, 999 Main St.\, Unit #109\, Pawtucket\, RI \nCreate your own 18” x 28” Cheerful Kitchen Towel. Using colorful cotton yarns\, you will learn to weave on a 4-shaft floor loom and go home with a finished piece! No experience necessary. All supplies included! \nsame course repeats at the same price on October 2nd. \nInstructor: Suzi Ballenger at Real Fibers.
URL:https://paperconnection.com/event/one-day-weaving-adventure/
LOCATION:Hope Artiste Village\, Art Annex\, 999 Main Street\, Unit #109\, Pawtucket\, RI\, 02860\, United States
CATEGORIES:workshop
END:VEVENT
END:VCALENDAR 