BEGIN:VCALENDAR
VERSION:2.0
PRODID:-//PaperConnection - ECPv6.15.20//NONSGML v1.0//EN
CALSCALE:GREGORIAN
METHOD:PUBLISH
X-WR-CALNAME:PaperConnection
X-ORIGINAL-URL:https://paperconnection.com
X-WR-CALDESC:Events for PaperConnection
REFRESH-INTERVAL;VALUE=DURATION:PT1H
X-Robots-Tag:noindex
X-PUBLISHED-TTL:PT1H
BEGIN:VTIMEZONE
TZID:America/New_York
BEGIN:DAYLIGHT
TZOFFSETFROM:-0500
TZOFFSETTO:-0400
TZNAME:EDT
DTSTART:20240310T070000
END:DAYLIGHT
BEGIN:STANDARD
TZOFFSETFROM:-0400
TZOFFSETTO:-0500
TZNAME:EST
DTSTART:20241103T060000
END:STANDARD
BEGIN:DAYLIGHT
TZOFFSETFROM:-0500
TZOFFSETTO:-0400
TZNAME:EDT
DTSTART:20250309T070000
END:DAYLIGHT
BEGIN:STANDARD
TZOFFSETFROM:-0400
TZOFFSETTO:-0500
TZNAME:EST
DTSTART:20251102T060000
END:STANDARD
BEGIN:DAYLIGHT
TZOFFSETFROM:-0500
TZOFFSETTO:-0400
TZNAME:EDT
DTSTART:20260308T070000
END:DAYLIGHT
BEGIN:STANDARD
TZOFFSETFROM:-0400
TZOFFSETTO:-0500
TZNAME:EST
DTSTART:20261101T060000
END:STANDARD
END:VTIMEZONE
BEGIN:VEVENT
DTSTART;TZID=America/New_York:20250411T113000
DTEND;TZID=America/New_York:20250411T123000
DTSTAMP:20260424T182533
CREATED:20250316T201747Z
LAST-MODIFIED:20250316T201747Z
UID:16932-1744371000-1744374600@paperconnection.com
SUMMARY:Stretching for Artists and Crafters-April 11
DESCRIPTION:If the change in time/weather/age has you a little stiff and achy\, join us in our sunny studio and stretch it out! As artisans\, crafters\, and people who use our hands as our primary tools\, we can become accustomed to a certain kind of hurt. \nLauren is not only experienced in body work\, such as yoga\, pain relief\, dance\, she has training in teach mat pilates and dance aerobics\, and she has developed her own stretching routine/methodology to get things limber. \nWe’re looking to be proactive for ourselves and our community. Let’s meet up\, say hello\, and streeeeetcchhhhh! \nWear comfortable clothing and please bring your own floor mat. \n♦️Stretching for Artists and Crafters will be repeating again on Friday\, March 28th \, Friday\, April 11th and Friday April 25th.♦️ \nWe suggest a donation of $5-$10 to partake in the class.  Walk-ins Welcome- and you pay cash at the door.
URL:https://paperconnection.com/event/stretching-for-artists-and-crafters-april-11/
LOCATION:Hope Artiste Village\, Art Annex\, 999 Main Street\, Unit #109\, Pawtucket\, RI\, 02860\, United States
ATTACH;FMTTYPE=image/jpeg:https://paperconnection.com/wp-content/uploads/2025/02/Stretching.jpeg
ORGANIZER;CN="Lauren Pearlman Sugita":MAILTO:washiwoman@gmail.com
END:VEVENT
BEGIN:VEVENT
DTSTART;TZID=America/New_York:20250425T113000
DTEND;TZID=America/New_York:20250425T123000
DTSTAMP:20260424T182533
CREATED:20250316T201900Z
LAST-MODIFIED:20250316T201929Z
UID:16935-1745580600-1745584200@paperconnection.com
SUMMARY:Stretching for Artists and Crafters-April 25
DESCRIPTION:If the change in time/weather/age has you a little stiff and achy\, join us in our sunny studio and stretch it out! As artisans\, crafters\, and people who use our hands as our primary tools\, we can become accustomed to a certain kind of hurt. \nLauren is not only experienced in body work\, such as yoga\, pain relief\, dance\, she has training in teach mat pilates and dance aerobics\, and she has developed her own stretching routine/methodology to get things limber. \nWe’re looking to be proactive for ourselves and our community. Let’s meet up\, say hello\, and streeeeetcchhhhh! \nWear comfortable clothing and please bring your own floor mat. \n♦️Stretching for Artists and Crafters will be repeating again on Friday\, March 28th \, Friday\, April 11th and Friday April 25th.♦️ \nWe suggest a donation of $5-$10 to partake in the class.  Walk-ins Welcome- and you pay cash at the door.
URL:https://paperconnection.com/event/stretching-for-artists-and-crafters-april-25/
LOCATION:Hope Artiste Village\, Art Annex\, 999 Main Street\, Unit #109\, Pawtucket\, RI\, 02860\, United States
ATTACH;FMTTYPE=image/jpeg:https://paperconnection.com/wp-content/uploads/2025/02/Stretching.jpeg
ORGANIZER;CN="Lauren Pearlman Sugita":MAILTO:washiwoman@gmail.com
END:VEVENT
BEGIN:VEVENT
DTSTART;TZID=America/New_York:20250425T130000
DTEND;TZID=America/New_York:20250425T170000
DTSTAMP:20260424T182533
CREATED:20240115T203708Z
LAST-MODIFIED:20250421T041242Z
UID:16420-1745586000-1745600400@paperconnection.com
SUMMARY:Art Annex Shop Friday Hours April 25th
DESCRIPTION:Our mini gift shop is open at the ART ANNEX\, 999 Main St.\, Unit #109\, Pawtucket\, RI. \nNext: April 25th 1:00-5:00pm \nPlease stop by to say “hi” and check out the gorgeous items for sale in our shop.  Lauren will be in-house to help troubleshoot your paper\, fiber\, and book arts queries and quandaries. \nCheck or cash preferred. we do take credit cards\, but there is a transaction fee. \nYour purchases will help sustain our studio\, allow us to keep building out the space and help us to bring in diverse educators and programming around the subject of book\, paper and fiber arts. \nOf course\, donations are most appreciated! \nFor inquiries or to make an appointment\, please call Paper Connection – M-TH 401.454.1436 \n 
URL:https://paperconnection.com/event/art-annex-studio-store-friday-hours/
LOCATION:Hope Artiste Village\, Art Annex\, 999 Main Street\, Unit #109\, Pawtucket\, RI\, 02860\, United States
CATEGORIES:Paper Trunk Show
ORGANIZER;CN="Lauren Pearlman Sugita":MAILTO:washiwoman@gmail.com
END:VEVENT
END:VCALENDAR 