BEGIN:VCALENDAR
VERSION:2.0
PRODID:-//PaperConnection - ECPv6.15.20//NONSGML v1.0//EN
CALSCALE:GREGORIAN
METHOD:PUBLISH
X-WR-CALNAME:PaperConnection
X-ORIGINAL-URL:https://paperconnection.com
X-WR-CALDESC:Events for PaperConnection
REFRESH-INTERVAL;VALUE=DURATION:PT1H
X-Robots-Tag:noindex
X-PUBLISHED-TTL:PT1H
BEGIN:VTIMEZONE
TZID:America/New_York
BEGIN:DAYLIGHT
TZOFFSETFROM:-0500
TZOFFSETTO:-0400
TZNAME:EDT
DTSTART:20220313T070000
END:DAYLIGHT
BEGIN:STANDARD
TZOFFSETFROM:-0400
TZOFFSETTO:-0500
TZNAME:EST
DTSTART:20221106T060000
END:STANDARD
BEGIN:DAYLIGHT
TZOFFSETFROM:-0500
TZOFFSETTO:-0400
TZNAME:EDT
DTSTART:20230312T070000
END:DAYLIGHT
BEGIN:STANDARD
TZOFFSETFROM:-0400
TZOFFSETTO:-0500
TZNAME:EST
DTSTART:20231105T060000
END:STANDARD
BEGIN:DAYLIGHT
TZOFFSETFROM:-0500
TZOFFSETTO:-0400
TZNAME:EDT
DTSTART:20240310T070000
END:DAYLIGHT
BEGIN:STANDARD
TZOFFSETFROM:-0400
TZOFFSETTO:-0500
TZNAME:EST
DTSTART:20241103T060000
END:STANDARD
END:VTIMEZONE
BEGIN:VEVENT
DTSTART;TZID=America/New_York:20230503T160000
DTEND;TZID=America/New_York:20230503T160000
DTSTAMP:20260425T081347
CREATED:20230402T220327Z
LAST-MODIFIED:20230501T030349Z
UID:15724-1683129600-1683129600@paperconnection.com
SUMMARY:Paper & Fiber Drop-In Clinics
DESCRIPTION:At the ART ANNEX\, 999 Main St.\, Unit #109\, Pawtucket\, RI \nNext: May 3\, 2023 –  4:00-6:00 pm. \nDonations are greatly appreciated! \nPlease stop by to check out the beautiful looms and gorgeous items for sale in our shop. Both Lauren and/or  Suzi will be in-house to help troubleshoot your paper\, fiber\, and book arts queries and quandaries. BONUS! we all get to meet each other- expanding our worlds. \n 
URL:https://paperconnection.com/event/paper-fiber-drop-in-clinics/
LOCATION:Hope Artiste Village\, Art Annex\, 999 Main Street\, Unit #109\, Pawtucket\, RI\, 02860\, United States
CATEGORIES:Drop-In Clinics
ORGANIZER;CN="Lauren Pearlman Sugita":MAILTO:washiwoman@gmail.com
END:VEVENT
BEGIN:VEVENT
DTSTART;TZID=America/New_York:20230414T173000
DTEND;TZID=America/New_York:20230414T193000
DTSTAMP:20260425T081347
CREATED:20230402T221153Z
LAST-MODIFIED:20230501T035856Z
UID:15753-1681493400-1681500600@paperconnection.com
SUMMARY:Monoprinting
DESCRIPTION:fineEver wondered what the difference is between monotypes and monoprints? In this workshop\, experience multiple ways of creating monotypes and monoprints while learning about the art form. This workshop will focus on everyday materials making it accessible for artists and creators of all backgrounds to take what they learned and apply them to their art beyond the class. Methods covered will include monotyping from smooth surfaces such as plexiglass using paint and monoprinting using cut laminated cardboard and paint. Participants will get to print using a variety of unique and beautiful papers from our collection. \nLet loose and don’t worry about perfection with the beauty of monoprints! \nFor costs and signup click here \nClass instructors-Paper Connection staff
URL:https://paperconnection.com/event/monoprinting-a-few-more-spots-left/
LOCATION:Hope Artiste Village\, Art Annex\, 999 Main Street\, Unit #109\, Pawtucket\, RI\, 02860\, United States
CATEGORIES:workshop
END:VEVENT
END:VCALENDAR