BEGIN:VCALENDAR
VERSION:2.0
PRODID:-//PaperConnection - ECPv6.15.20//NONSGML v1.0//EN
CALSCALE:GREGORIAN
METHOD:PUBLISH
X-ORIGINAL-URL:https://paperconnection.com
X-WR-CALDESC:Events for PaperConnection
REFRESH-INTERVAL;VALUE=DURATION:PT1H
X-Robots-Tag:noindex
X-PUBLISHED-TTL:PT1H
BEGIN:VTIMEZONE
TZID:America/New_York
BEGIN:DAYLIGHT
TZOFFSETFROM:-0500
TZOFFSETTO:-0400
TZNAME:EDT
DTSTART:20250309T070000
END:DAYLIGHT
BEGIN:STANDARD
TZOFFSETFROM:-0400
TZOFFSETTO:-0500
TZNAME:EST
DTSTART:20251102T060000
END:STANDARD
BEGIN:DAYLIGHT
TZOFFSETFROM:-0500
TZOFFSETTO:-0400
TZNAME:EDT
DTSTART:20260308T070000
END:DAYLIGHT
BEGIN:STANDARD
TZOFFSETFROM:-0400
TZOFFSETTO:-0500
TZNAME:EST
DTSTART:20261101T060000
END:STANDARD
BEGIN:DAYLIGHT
TZOFFSETFROM:-0500
TZOFFSETTO:-0400
TZNAME:EDT
DTSTART:20270314T070000
END:DAYLIGHT
BEGIN:STANDARD
TZOFFSETFROM:-0400
TZOFFSETTO:-0500
TZNAME:EST
DTSTART:20271107T060000
END:STANDARD
END:VTIMEZONE
BEGIN:VEVENT
DTSTART;TZID=America/New_York:20260307T120000
DTEND;TZID=America/New_York:20260307T160000
DTSTAMP:20260423T192247
CREATED:20260212T201928Z
LAST-MODIFIED:20260222T132739Z
UID:17067-1772884800-1772899200@paperconnection.com
SUMMARY:Workshop: Handmade Decorative Boxmaking
DESCRIPTION:Join seasoned boxmaker\, Deborah McCarthy\, on Saturday March 7th\, from 12-4pm\, to learn how to make your own handmade decorative box: from top to bottom\, including the lid and closure. \nYou’ll start by selecting from a variety of decorative handmade papers\, courtesy of Paper Connection. Then\, you will learn how to plan\, measure\, cut\, and wrap your box for a unique design. At the end of the workshop\, each student will go home with a finished box and the skills to make more on their own! \nAll materials and papers will be supplied. \nIf you have any questions\, please write to paperconnection1@gmail.com or call Monday – Thursday (401)454-1436.
URL:https://paperconnection.com/event/workshop-handmade-decorative-boxmaking/
LOCATION:Hope Artiste Village\, Art Annex\, 999 Main Street\, Unit #109\, Pawtucket\, RI\, 02860\, United States
CATEGORIES:workshop
ATTACH;FMTTYPE=image/jpeg:https://paperconnection.com/wp-content/uploads/2026/02/Handmade-Decorative-Box-making-1080px-instagram-1.jpg
END:VEVENT
END:VCALENDAR 