BEGIN:VCALENDAR
VERSION:2.0
PRODID:-//PaperConnection - ECPv6.15.20//NONSGML v1.0//EN
CALSCALE:GREGORIAN
METHOD:PUBLISH
X-ORIGINAL-URL:https://paperconnection.com
X-WR-CALDESC:Events for PaperConnection
REFRESH-INTERVAL;VALUE=DURATION:PT1H
X-Robots-Tag:noindex
X-PUBLISHED-TTL:PT1H
BEGIN:VTIMEZONE
TZID:America/New_York
BEGIN:DAYLIGHT
TZOFFSETFROM:-0500
TZOFFSETTO:-0400
TZNAME:EDT
DTSTART:20240310T070000
END:DAYLIGHT
BEGIN:STANDARD
TZOFFSETFROM:-0400
TZOFFSETTO:-0500
TZNAME:EST
DTSTART:20241103T060000
END:STANDARD
BEGIN:DAYLIGHT
TZOFFSETFROM:-0500
TZOFFSETTO:-0400
TZNAME:EDT
DTSTART:20250309T070000
END:DAYLIGHT
BEGIN:STANDARD
TZOFFSETFROM:-0400
TZOFFSETTO:-0500
TZNAME:EST
DTSTART:20251102T060000
END:STANDARD
BEGIN:DAYLIGHT
TZOFFSETFROM:-0500
TZOFFSETTO:-0400
TZNAME:EDT
DTSTART:20260308T070000
END:DAYLIGHT
BEGIN:STANDARD
TZOFFSETFROM:-0400
TZOFFSETTO:-0500
TZNAME:EST
DTSTART:20261101T060000
END:STANDARD
END:VTIMEZONE
BEGIN:VEVENT
DTSTART;TZID=America/New_York:20251004T130000
DTEND;TZID=America/New_York:20251004T163000
DTSTAMP:20260424T090453
CREATED:20250904T002425Z
LAST-MODIFIED:20250904T002425Z
UID:16968-1759582800-1759595400@paperconnection.com
SUMMARY:Workshop: Collage Artist Books
DESCRIPTION:Back for a 3rd time by popular demand! Join instructor\, Elisa Lanzi in making a one of a kind hinged accordion book using upcycled materials. Your multi-panel book can serve as a visual journal of your art or a unique artist collaged book. \nNo previous art or bookmaking experience is needed. This workshop will focus on simple ways to use upcycled materials making it accessible for artists and creators of all backgrounds to take what they learned and apply it at home. \n4 student minimum \n  \n 
URL:https://paperconnection.com/event/workshop-collage-artist-books/
LOCATION:Hope Artiste Village\, Art Annex\, 999 Main Street\, Unit #109\, Pawtucket\, RI\, 02860\, United States
END:VEVENT
END:VCALENDAR 